BEGIN:VCALENDAR
VERSION:2.0
PRODID:-//Divitest - ECPv6.15.15//NONSGML v1.0//EN
CALSCALE:GREGORIAN
METHOD:PUBLISH
X-ORIGINAL-URL:https://divitest.lsdeh.eu
X-WR-CALDESC:Évènements pour Divitest
REFRESH-INTERVAL;VALUE=DURATION:PT1H
X-Robots-Tag:noindex
X-PUBLISHED-TTL:PT1H
BEGIN:VTIMEZONE
TZID:Europe/Paris
BEGIN:DAYLIGHT
TZOFFSETFROM:+0100
TZOFFSETTO:+0200
TZNAME:CEST
DTSTART:20240331T010000
END:DAYLIGHT
BEGIN:STANDARD
TZOFFSETFROM:+0200
TZOFFSETTO:+0100
TZNAME:CET
DTSTART:20241027T010000
END:STANDARD
BEGIN:DAYLIGHT
TZOFFSETFROM:+0100
TZOFFSETTO:+0200
TZNAME:CEST
DTSTART:20250330T010000
END:DAYLIGHT
BEGIN:STANDARD
TZOFFSETFROM:+0200
TZOFFSETTO:+0100
TZNAME:CET
DTSTART:20251026T010000
END:STANDARD
BEGIN:DAYLIGHT
TZOFFSETFROM:+0100
TZOFFSETTO:+0200
TZNAME:CEST
DTSTART:20260329T010000
END:DAYLIGHT
BEGIN:STANDARD
TZOFFSETFROM:+0200
TZOFFSETTO:+0100
TZNAME:CET
DTSTART:20261025T010000
END:STANDARD
BEGIN:DAYLIGHT
TZOFFSETFROM:+0100
TZOFFSETTO:+0200
TZNAME:CEST
DTSTART:20270328T010000
END:DAYLIGHT
BEGIN:STANDARD
TZOFFSETFROM:+0200
TZOFFSETTO:+0100
TZNAME:CET
DTSTART:20271031T010000
END:STANDARD
END:VTIMEZONE
BEGIN:VEVENT
DTSTART;TZID=Europe/Paris:20260228T080000
DTEND;TZID=Europe/Paris:20260228T170000
DTSTAMP:20260421T165112
CREATED:20260210T162345Z
LAST-MODIFIED:20260210T162345Z
UID:790229-1772265600-1772298000@divitest.lsdeh.eu
SUMMARY:Atelier écriture
DESCRIPTION:
URL:https://divitest.lsdeh.eu/event/atelier-ecriture/
LOCATION:Malbosc\, 282 Route de Malbosc\, LE SOULIE\, 34330\, France
ORGANIZER;CN="Association malbosc":MAILTO:contact@malbosc.eu
END:VEVENT
BEGIN:VEVENT
DTSTART;TZID=Europe/Paris:20251030T080000
DTEND;TZID=Europe/Paris:20251030T170000
DTSTAMP:20260421T165112
CREATED:20251025T173535Z
LAST-MODIFIED:20251025T173535Z
UID:2930-1761811200-1761843600@divitest.lsdeh.eu
SUMMARY:Autre event
DESCRIPTION:
URL:https://divitest.lsdeh.eu/event/autre-event/
LOCATION:le soulié
END:VEVENT
BEGIN:VEVENT
DTSTART;VALUE=DATE:20251030
DTEND;VALUE=DATE:20251031
DTSTAMP:20260421T165112
CREATED:20251025T180452Z
LAST-MODIFIED:20251026T144653Z
UID:2939-1761782400-1761868799@divitest.lsdeh.eu
SUMMARY:Conférence duPain
DESCRIPTION:C’est une super conférence sur duPain\, le célèbre pouet de la commune
URL:https://divitest.lsdeh.eu/event/conference-dupain/
LOCATION:le soulié
END:VEVENT
END:VCALENDAR